BEGIN:VCALENDAR
VERSION:2.0
PRODID:-//Mudgee Fine Foods - ECPv4.6.6//NONSGML v1.0//EN
CALSCALE:GREGORIAN
METHOD:PUBLISH
X-WR-CALNAME:Mudgee Fine Foods
X-ORIGINAL-URL:https://mudgeefinefoods.com.au
X-WR-CALDESC:Events for Mudgee Fine Foods
BEGIN:VEVENT
DTSTART;TZID=UTC+10:20190818T090000
DTEND;TZID=UTC+10:20190818T123000
DTSTAMP:20200301T104427
CREATED:20190325T000211Z
LAST-MODIFIED:20190404T004106Z
UID:10488-1566118800-1566131400@mudgeefinefoods.com.au
SUMMARY:Sunday Farm Walks
DESCRIPTION:\nFrom our great range of producers\, two farms open their doors each month\, enabling visitors to explore the origins of local\, seasonal produce. Depending on the season you may get to see olive oil production\, free-range pork\, locally grown vegetables\, vineyards\, a fig orchard or a working winery. \n\n
URL:https://mudgeefinefoods.com.au/event/farm-walks-18-08-2019/
CATEGORIES:Farm Walk
ATTACH;FMTTYPE=image/jpeg:https://mudgeefinefoods.com.au/wp-content/uploads/2017/10/farm_walk_event.jpg
ORGANIZER;CN="Julie%20Watt":MAILTO:farmersmarket@mudgeefinefoods.com.au
END:VEVENT
END:VCALENDAR