BEGIN:VCALENDAR
VERSION:2.0
PRODID:-//Mudgee Fine Foods - ECPv4.6.6//NONSGML v1.0//EN
CALSCALE:GREGORIAN
METHOD:PUBLISH
X-WR-CALNAME:Mudgee Fine Foods
X-ORIGINAL-URL:https://mudgeefinefoods.com.au
X-WR-CALDESC:Events for Mudgee Fine Foods
BEGIN:VEVENT
DTSTART;TZID=UTC+10:20171118T090000
DTEND;TZID=UTC+10:20171118T120000
DTSTAMP:20200301T103630
CREATED:20171108T063113Z
LAST-MODIFIED:20171108T063526Z
UID:9907-1510995600-1511006400@mudgeefinefoods.com.au
SUMMARY:Kids Cooking
DESCRIPTION:Introducing children to the joys of seasonal\, healthy and fresh food in a FUN environment. Under the guidance of our resident Chef the children will source ingredients from the Farmers’ Market stallholders then venture into the Kitchen to cook up a storm! \n\nHeld during the Farmers’ Markets (except December)\nMeet at the MFFI Information Marquee in the grounds of St Mary’s Churchyard \n
URL:https://mudgeefinefoods.com.au/event/kids-cooking/
LOCATION:57 Market St\, Mudgee\, NSW\, 2850\, Australia
CATEGORIES:Kids Cooking
ATTACH;FMTTYPE=image/jpeg:https://mudgeefinefoods.com.au/wp-content/uploads/2017/11/kids-cooking.jpg
ORGANIZER;CN="Rebecca%20Anderson":MAILTO:kidscooking@mudgeefinefoods.com.au
END:VEVENT
END:VCALENDAR